BEGIN:VCALENDAR
VERSION:2.0
PRODID:-//stjosephplacentia.org//eCatholic//EN
X-WR-TIMEZONE:LocalTZ
BEGIN:VTIMEZONE
TZID:LocalTZ
X-LIC-LOCATION:LocalTZ
BEGIN:DAYLIGHT
TZOFFSETFROM:-0800
TZOFFSETTO:-0700
TZNAME:LocalTZ
DTSTART:19700308T020000
RRULE:FREQ=YEARLY;BYMONTH=3;BYDAY=2SU
END:DAYLIGHT
BEGIN:STANDARD
TZOFFSETFROM:-0700
TZOFFSETTO:-0800
TZNAME:LocalTZ
DTSTART:19701101T020000
RRULE:FREQ=YEARLY;BYMONTH=11;BYDAY=1SU
END:STANDARD
END:VTIMEZONE
BEGIN:VEVENT
UID:3074955@stjosephplacentia.org
DTSTAMP:20260424T170851Z
DTSTART:20260428T093000
DTEND:20260428T103000
RRULE:FREQ=WEEKLY;UNTIL=20260429;BYDAY=TU
SUMMARY:SoulCore - Faith and Fitness Ministry
DESCRIPTION:SoulCore is a new ministry at St. Joseph of Faith and Fitness.
  Please click here for more info \n
END:VEVENT
END:VCALENDAR
