BEGIN:VCALENDAR
VERSION:2.0
PRODID:-//stjosephplacentia.org//eCatholic//EN
X-WR-TIMEZONE:LocalTZ
BEGIN:VTIMEZONE
TZID:LocalTZ
X-LIC-LOCATION:LocalTZ
BEGIN:DAYLIGHT
TZOFFSETFROM:-0800
TZOFFSETTO:-0700
TZNAME:LocalTZ
DTSTART:19700308T020000
RRULE:FREQ=YEARLY;BYMONTH=3;BYDAY=2SU
END:DAYLIGHT
BEGIN:STANDARD
TZOFFSETFROM:-0700
TZOFFSETTO:-0800
TZNAME:LocalTZ
DTSTART:19701101T020000
RRULE:FREQ=YEARLY;BYMONTH=11;BYDAY=1SU
END:STANDARD
END:VTIMEZONE
BEGIN:VEVENT
UID:3060852@stjosephplacentia.org
DTSTAMP:20260420T023527Z
DTSTART:20260622T090000
DTEND:20260626T120000
SUMMARY:Children's Vacation Bible School
DESCRIPTION:VBS 2026 Registration is HERE!\n\nJoin us for Rainforest Falls
 : Exploring the Nature of God\nMonday\, June 22 – Friday\, June 26\n\nGet 
 ready for an unforgettable adventure filled with faith\, fun\, and discove
 ry!\n\nCampers: Preschool – 5th Grade\n\nWe’re also seeking Adult & Teen V
 olunteers\nTeen Volunteers: 6th – 12th Grade\n\nCome grow in faith\, make 
 new friends\, and explore the beauty of God’s creation together!\n\nRegist
 er today & be part of the adventure!\n\nFor more information please email 
 Michelle Myers. 
END:VEVENT
END:VCALENDAR
